BEGIN:VCALENDAR
VERSION:2.0
PRODID:goabase.net iCalendar 2026
X-WR-CALNAME:goabase.net - parties and people 
X-WR-TIMEZONE;VALUE=TEXT:Europe/Berlin
CALSCALE:GREGORIAN
BEGIN:VTIMEZONE
TZID:Europe/Berlin
X-LIC-LOCATION:Europe/Berlin
BEGIN:DAYLIGHT
TZOFFSETFROM:+0100
TZOFFSETTO:+0200
TZNAME:CEST
DTSTART:19700329T020000
RRULE:FREQ=YEARLY;INTERVAL=1;BYDAY=-1SU;BYMONTH=3
END:DAYLIGHT
BEGIN:STANDARD
TZOFFSETFROM:+0200
TZOFFSETTO:+0100
TZNAME:CET
DTSTART:19701025T030000
RRULE:FREQ=YEARLY;INTERVAL=1;BYDAY=-1SU;BYMONTH=10
END:STANDARD
END:VTIMEZONE

BEGIN:VEVENT
UID:76f8f9330f28f84fd9dab6055943071c
DTSTART:20141122T220000
DTEND:20141123T120000
LOCATION:Glattbrugg ZH [Switzerland]
GEO:47.434814000;8.567187162
DTSTAMP:20141122T220000Z
SUMMARY:*HOLYWOOZ*
DESCRIPTION:Line-Up: Live Act's: Xerox & Illumination Hommega Rec., Israel Born
  Sleepy Hommega Rec., Israel DJ's: Djane Oktogen Hexadez Prod.…
URL:https://www.goabase.net/de/party/holywooz/81913
CATEGORIES:Psytrance Event
CLASS:PUBLIC
END:VEVENT

END:VCALENDAR