BEGIN:VCALENDAR
VERSION:2.0
PRODID:goabase.net iCalendar 2026
X-WR-CALNAME:goabase.net - parties and people 
X-WR-TIMEZONE;VALUE=TEXT:Europe/Berlin
CALSCALE:GREGORIAN
BEGIN:VTIMEZONE
TZID:Europe/Berlin
X-LIC-LOCATION:Europe/Berlin
BEGIN:DAYLIGHT
TZOFFSETFROM:+0100
TZOFFSETTO:+0200
TZNAME:CEST
DTSTART:19700329T020000
RRULE:FREQ=YEARLY;INTERVAL=1;BYDAY=-1SU;BYMONTH=3
END:DAYLIGHT
BEGIN:STANDARD
TZOFFSETFROM:+0200
TZOFFSETTO:+0100
TZNAME:CET
DTSTART:19701025T030000
RRULE:FREQ=YEARLY;INTERVAL=1;BYDAY=-1SU;BYMONTH=10
END:STANDARD
END:VTIMEZONE

BEGIN:VEVENT
UID:744719ac68297e2145e142cc6487e4c3
DTSTART:20180303T223000
DTEND:20180304T053000
LOCATION:Brussel [Belgium]
GEO:50.846542400;4.351684100
DTSTAMP:20180303T223000Z
SUMMARY:Chromosphere ॐ with Crazy Astronaut and Furious (RU)
DESCRIPTION:Line-Up: //__Chromosphere Brussels:: using System- Chromosphere
  Mainframe { Console (Performing Artists) - CRAZY ASTRONAUT (RU, l…
URL:https://www.goabase.net/de/party/chromosphere-with-crazy-astronaut-and-furious-ru/98406
CATEGORIES:Psytrance Event
CLASS:PUBLIC
END:VEVENT

BEGIN:VEVENT
UID:c53dfa4ff935d15b39934d716f6672e0
DTSTART:20150221T220000
DTEND:20150222T080000
LOCATION:Gent [Belgium]
GEO:51.055813000;3.723919000
DTSTAMP:20150221T220000Z
SUMMARY:Chromosphere
DESCRIPTION:Line-Up: ♫ MEGALOPSY (Dark Prisma Rec, LIVE, ARG) ♫ WILL O WISP (Dark
  Prisma Rec, LIVE, ARG) ♫ HELLOKI (Arcade Disfunction Rec,…
URL:https://www.goabase.net/de/party/chromosphere/83063
CATEGORIES:Psytrance Event
CLASS:PUBLIC
END:VEVENT

BEGIN:VEVENT
UID:820afe415593682b74d5fc7429f76fe5
DTSTART:20140528T220000
DTEND:20140529T080000
LOCATION:Gent [Belgium]
GEO:51.055813000;3.723919000
DTSTAMP:20140528T220000Z
SUMMARY:Chromosphere
DESCRIPTION:Line-Up: ★ ANTAGON | DE | Damaru Rec. / AliceD Rec. / 3 HOUR SET ! ★
  OONAH (DIGICULT DJ SET) | BE | Dacru Records ★ FERRATEK |…
URL:https://www.goabase.net/de/party/chromosphere/79228
CATEGORIES:Psytrance Event
CLASS:PUBLIC
END:VEVENT

END:VCALENDAR