BEGIN:VCALENDAR
VERSION:2.0
PRODID:goabase.net iCalendar 2026
X-WR-CALNAME:goabase.net - parties and people - partytimer from Trippsy
X-WR-TIMEZONE;VALUE=TEXT:Europe/Berlin
CALSCALE:GREGORIAN
BEGIN:VTIMEZONE
TZID:Europe/Berlin
X-LIC-LOCATION:Europe/Berlin
BEGIN:DAYLIGHT
TZOFFSETFROM:+0100
TZOFFSETTO:+0200
TZNAME:CEST
DTSTART:19700329T020000
RRULE:FREQ=YEARLY;INTERVAL=1;BYDAY=-1SU;BYMONTH=3
END:DAYLIGHT
BEGIN:STANDARD
TZOFFSETFROM:+0200
TZOFFSETTO:+0100
TZNAME:CET
DTSTART:19701025T030000
RRULE:FREQ=YEARLY;INTERVAL=1;BYDAY=-1SU;BYMONTH=10
END:STANDARD
END:VTIMEZONE
BEGIN:VEVENT
UID:47a21e3fe939a015ab717d6136fbaf39
DTSTART:20260517T140000
DTEND:20260517T220000
LOCATION:Stuttgart [Germany]
GEO:48.800000000;9.200000000
DTSTAMP:20260517T140000Z
SUMMARY:Psychedelic Community Festival Stuttgart | DayDance @ Fridas Pier
DESCRIPTION:Line-Up: Main Floor IONIC (Nebula) Trippsy (Star Dancer) Astralica
  (Anderswelt) Mind Collector (N8falter) Hyperion (Nebula) Oberd…
  Location: Fridas Pier, Uferstraße 107, 70188 Stuttgart
URL:https://www.goabase.net/de/party/psychedelic-community-festival-stuttgart-daydance-fridas-pier/117381
CATEGORIES:Psytrance Event
CLASS:PUBLIC
END:VEVENT
END:VCALENDAR